BEGIN:VCALENDAR
VERSION:2.0
PRODID:spatie/icalendar-generator
DESCRIPTION:Events from Two Waters Arts Alliance
X-WR-CALDESC:Events from Two Waters Arts Alliance
REFRESH-INTERVAL;VALUE=DURATION:PT1440M
X-PUBLISHED-TTL:PT1440M
BEGIN:VTIMEZONE
TZID:America/Los_Angeles
BEGIN:STANDARD
DTSTART:20281105T020000Z
TZOFFSETFROM:-0700
TZOFFSETTO:-0800
END:STANDARD
BEGIN:DAYLIGHT
DTSTART:20290311T020000Z
TZOFFSETFROM:-0800
TZOFFSETTO:-0700
END:DAYLIGHT
BEGIN:STANDARD
DTSTART:20291104T020000Z
TZOFFSETFROM:-0700
TZOFFSETTO:-0800
END:STANDARD
END:VTIMEZONE
BEGIN:VTIMEZONE
TZID:UTC
BEGIN:STANDARD
DTSTART:20250727T143324Z
TZOFFSETFROM:+0000
TZOFFSETTO:+0000
END:STANDARD
END:VTIMEZONE
BEGIN:VEVENT
UID:199-3
DTSTAMP:20260423T143324Z
SUMMARY:Art Walk 2025
LOCATION:Sunnycrest Nursery 9004 Key Peninsula Hwy NW  Lakebay WA 98349
ORGANIZER;CN=admin:MAILTO:admin@twowaters.org
RRULE:FREQ=YEARLY;BYMONTH=08;BYDAY=01;UNTIL=20300807T000000Z
DTSTART;TZID=America/Los_Angeles:20290801T160000
DTEND;TZID=America/Los_Angeles:20290801T200000
X-ALT-DESC;FMTTYPE=TEXT/HTML:Annual Art Walk\, Key Center\, Art\, Food\, Mu
 sic. Fun for the whole family
CATEGORIES:General
URL;VALUE=URI:https://twowaters.org/mc-events/art-walk-2025/?mc_id=199
METHOD:PUBLISH
END:VEVENT
END:VCALENDAR